BEGIN:VCALENDAR
VERSION:2.0
PRODID:-//Emilie Jacquemier - ECPv5.16.4//NONSGML v1.0//EN
CALSCALE:GREGORIAN
METHOD:PUBLISH
X-ORIGINAL-URL:https://emiliejacquemier-reiki.com
X-WR-CALDESC:évènements pour Emilie Jacquemier
REFRESH-INTERVAL;VALUE=DURATION:PT1H
X-Robots-Tag:noindex
X-PUBLISHED-TTL:PT1H
BEGIN:VTIMEZONE
TZID:Europe/Paris
BEGIN:DAYLIGHT
TZOFFSETFROM:+0100
TZOFFSETTO:+0200
TZNAME:CEST
DTSTART:20220327T010000
END:DAYLIGHT
BEGIN:STANDARD
TZOFFSETFROM:+0200
TZOFFSETTO:+0100
TZNAME:CET
DTSTART:20221030T010000
END:STANDARD
END:VTIMEZONE
BEGIN:VEVENT
DTSTART;TZID=Europe/Paris:20221018T190000
DTEND;TZID=Europe/Paris:20221018T203000
DTSTAMP:20260426T004223
CREATED:20220916T113923Z
LAST-MODIFIED:20220921T123550Z
UID:10688-1666119600-1666125000@emiliejacquemier-reiki.com
SUMMARY:Conférence : découverte des archives akashiques
DESCRIPTION:Venez découvrir les archives akashiques !\n\nCette grande bibliothèque de l’humanité contient l’histoire de vos vies antérieures et de votre histoire familiale.\nIl est possible d’y accéder pour bénéficier de ses nombreuses potentialités :\n– Comprendre l’origine de vos blessures\n– Vous libérer du karma et des schémas répétitifs\n– Découvrir votre mission de vie\, vos talents etc…\n\nConférence à 19h – Ouverture des portes à 18h30\nEntrée : 15 CHF\nRenseignements et inscription : stephanie.leopizzi@hotmail.fr
URL:https://emiliejacquemier-reiki.com/event/conference-decouverte-des-archives-akashiques/
LOCATION:Route du Bois-de-Bay 83\, 1282 SATIGNY – CH\, 83 Route du Bois-de Bay\, SATIGNY\, 1282\, Suisse
CATEGORIES:CONFERENCES
ATTACH;FMTTYPE=image/png:https://emiliejacquemier-reiki.com/wp-content/uploads/2022/09/Conference-AA-Satigny-18OCT22.png
ORGANIZER;CN="SOYONS%20AUTHENTIQUES":MAILTO:stephanie@soyons-authentiques.ch
END:VEVENT
END:VCALENDAR