BEGIN:VCALENDAR
VERSION:2.0
PRODID:-//Emilie Jacquemier - ECPv5.16.4//NONSGML v1.0//EN
CALSCALE:GREGORIAN
METHOD:PUBLISH
X-WR-CALNAME:Emilie Jacquemier
X-ORIGINAL-URL:https://emiliejacquemier-reiki.com
X-WR-CALDESC:évènements pour Emilie Jacquemier
REFRESH-INTERVAL;VALUE=DURATION:PT1H
X-Robots-Tag:noindex
X-PUBLISHED-TTL:PT1H
BEGIN:VTIMEZONE
TZID:Europe/Paris
BEGIN:DAYLIGHT
TZOFFSETFROM:+0100
TZOFFSETTO:+0200
TZNAME:CEST
DTSTART:20220327T010000
END:DAYLIGHT
BEGIN:STANDARD
TZOFFSETFROM:+0200
TZOFFSETTO:+0100
TZNAME:CET
DTSTART:20221030T010000
END:STANDARD
END:VTIMEZONE
BEGIN:VEVENT
DTSTART;TZID=Europe/Paris:20220624T190000
DTEND;TZID=Europe/Paris:20220624T200000
DTSTAMP:20260426T061041
CREATED:20220620T144048Z
LAST-MODIFIED:20220620T144048Z
UID:10602-1656097200-1656100800@emiliejacquemier-reiki.com
SUMMARY:conférence : comprendre les archives akashiques
DESCRIPTION:Venez découvrir les archives akashiques !\n\nCette grande bibliothèque de l’humanité contient l’histoire de vos vies antérieures et de votre histoire familiale.\n\nIl est possible d’y accéder pour bénéficier de ses nombreuses potentialités :\n– Comprendre l’origine de vos blessures\n– Vous libérer du karma et des schémas répétitifs\n– Découvrir votre mission de vie\, vos talents etc…\n\nConférence proposée dans le cadre du festival les Ateliers de Gex.
URL:https://emiliejacquemier-reiki.com/event/conference-comprendre-les-archives-akashiques/
LOCATION:Studio into the Wild\, 49 rue de la fontaine\, Gex\, 01170\, France
CATEGORIES:CONFERENCES
ATTACH;FMTTYPE=image/png:https://emiliejacquemier-reiki.com/wp-content/uploads/2022/06/Conference-AA-studio-into-the-wild-24JUIN22.png
END:VEVENT
END:VCALENDAR